BEGIN:VCALENDAR
VERSION:2.0
PRODID:-//Sabre//Sabre VObject 4.5.8//EN
CALSCALE:GREGORIAN
BEGIN:VEVENT
UID:sabre-vobject-24a15d28-033b-4c3d-bffe-b7a3f4585d7a
DTSTAMP:20260425T234041Z
SUMMARY:Rosenkranz
DESCRIPTION:https://www2.bistum-augsburg.de/gottesdienste/rosenkranz_id1729
 289
DTSTART;TZID=Europe/Berlin:20260504T082500
DURATION:PT30M
LOCATION:St. Nikolaus
END:VEVENT
END:VCALENDAR
