BEGIN:VCALENDAR
VERSION:2.0
PRODID:-//Sabre//Sabre VObject 4.5.8//EN
CALSCALE:GREGORIAN
BEGIN:VEVENT
UID:sabre-vobject-46838443-b470-4e2a-8e6c-7755707641e3
DTSTAMP:20260423T174327Z
SUMMARY:Messe\, anschl. Anbetung bis 12 Uhr
DESCRIPTION:https://www2.bistum-augsburg.de/gottesdienste/messe-anschl-anbe
 tung-bis-12-uhr_id1729291
DTSTART;TZID=Europe/Berlin:20260505T100000
DURATION:PT30M
LOCATION:St. Josef\, Klosterplatz 2\, 87509 Immenstadt
END:VEVENT
END:VCALENDAR
