BEGIN:VCALENDAR
VERSION:2.0
PRODID:-//Sabre//Sabre VObject 4.5.8//EN
CALSCALE:GREGORIAN
BEGIN:VEVENT
UID:sabre-vobject-df8e1463-0fac-4cc7-aa59-dd9c868d74e3
DTSTAMP:20260425T220844Z
SUMMARY:Maiandacht mit eucharistischem Segen musikalisch gestaltet vom Kirc
 henchor
DESCRIPTION:https://www2.bistum-augsburg.de/gottesdienste/maiandacht-mit-eu
 charistischem-segen-musikalisch-gestaltet-vom-kirchenchor_id1729294
DTSTART;TZID=Europe/Berlin:20260503T193000
DURATION:PT30M
LOCATION:St. Johannes Baptist
END:VEVENT
END:VCALENDAR
