BEGIN:VCALENDAR
VERSION:2.0
PRODID:-//Sabre//Sabre VObject 4.5.8//EN
CALSCALE:GREGORIAN
BEGIN:VEVENT
UID:sabre-vobject-6226cc2c-f20e-4aff-8a29-0f6aa8466309
DTSTAMP:20260424T115837Z
SUMMARY:Eucharistische Anbetung anschl. Heilige Messe
DESCRIPTION:https://www2.bistum-augsburg.de/gottesdienste/eucharistische-an
 betung-anschl-heilige-messe_id1729295
DTSTART;TZID=Europe/Berlin:20260506T083000
DURATION:PT30M
LOCATION:St. Johannes Baptist
END:VEVENT
END:VCALENDAR
