BEGIN:VCALENDAR
VERSION:2.0
PRODID:-//Sabre//Sabre VObject 4.5.8//EN
CALSCALE:GREGORIAN
BEGIN:VEVENT
UID:sabre-vobject-43aa59d2-9b4f-478a-8c73-8e614959e81b
DTSTAMP:20260424T174157Z
SUMMARY:Maiandacht bei der Kapelle Hauber
DESCRIPTION:https://www2.bistum-augsburg.de/gottesdienste/maiandacht-bei-de
 r-kapelle-hauber_id1729296
DTSTART;TZID=Europe/Berlin:20260510T193000
DURATION:PT30M
LOCATION:St. Johannes Baptist
END:VEVENT
END:VCALENDAR
