BEGIN:VCALENDAR
VERSION:2.0
PRODID:-//Sabre//Sabre VObject 4.5.8//EN
CALSCALE:GREGORIAN
BEGIN:VEVENT
UID:sabre-vobject-cffd4683-4934-4568-8ba7-5969f56a7a32
DTSTAMP:20260425T164938Z
SUMMARY:Heilige Messe im Seniorenheim St. Vincenz
DESCRIPTION:https://www2.bistum-augsburg.de/gottesdienste/heilige-messe-im-
 seniorenheim-st-vincenz_id1729308
DTSTART;TZID=Europe/Berlin:20260529T100000
DURATION:PT30M
LOCATION:St. Wendelin
END:VEVENT
END:VCALENDAR
