BEGIN:VCALENDAR
VERSION:2.0
PRODID:-//Sabre//Sabre VObject 4.5.8//EN
CALSCALE:GREGORIAN
BEGIN:VEVENT
UID:sabre-vobject-18f37379-c646-443c-9490-0a76c5ea2b43
DTSTAMP:20260426T031646Z
SUMMARY:1. Maiandacht mit Segnung marianischer Andachtsgegenst. u. eucharis
 tischem Segen
DESCRIPTION:https://www2.bistum-augsburg.de/gottesdienste/1-maiandacht-mit-
 segnung-marianischer-andachtsgegenst-u-eucharistischem-segen_id1729310
DTSTART;TZID=Europe/Berlin:20260501T183000
DURATION:PT30M
LOCATION:St. Peter und Paul
END:VEVENT
END:VCALENDAR
