BEGIN:VCALENDAR
VERSION:2.0
PRODID:-//Sabre//Sabre VObject 4.5.8//EN
CALSCALE:GREGORIAN
BEGIN:VEVENT
UID:sabre-vobject-dfab44a3-8e79-40c4-8995-a045c912799f
DTSTAMP:20260422T225152Z
SUMMARY:Heilige Messe
DESCRIPTION:https://www2.bistum-augsburg.de/gottesdienste/heilige-messe_id1
 729328
DTSTART;TZID=Europe/Berlin:20260428T150000
DURATION:PT30M
LOCATION:St. Salvator
END:VEVENT
END:VCALENDAR
