BEGIN:VCALENDAR
VERSION:2.0
PRODID:-//Sabre//Sabre VObject 4.5.8//EN
CALSCALE:GREGORIAN
BEGIN:VEVENT
UID:sabre-vobject-a82db6bb-f563-4af2-b08d-be14f645fa8e
DTSTAMP:20260426T015527Z
SUMMARY:5. Maiandacht
DESCRIPTION:https://www2.bistum-augsburg.de/gottesdienste/5-maiandacht_id17
 29332
DTSTART;TZID=Europe/Berlin:20260524T193000
DURATION:PT30M
LOCATION:St. Martin\, Kirchenanger 2\, 88175 Scheffau
END:VEVENT
END:VCALENDAR
