BEGIN:VCALENDAR
VERSION:2.0
PRODID:-//Sabre//Sabre VObject 4.5.8//EN
CALSCALE:GREGORIAN
BEGIN:VEVENT
UID:sabre-vobject-e1a56e9e-3e86-42fe-a502-7e6c0ecedc6f
DTSTAMP:20260425T152927Z
SUMMARY:Stille Anbetung vor dem Allerheiligsten in der Taufkapelle bis 18 U
 hr
DESCRIPTION:https://www2.bistum-augsburg.de/gottesdienste/stille-anbetung-v
 or-dem-allerheiligsten-in-der-taufkapelle-bis-18-uhr_id1729360
DTSTART;TZID=Europe/Berlin:20260506T090000
DURATION:PT30M
LOCATION:St. Peter und Paul
END:VEVENT
END:VCALENDAR
