BEGIN:VCALENDAR
VERSION:2.0
PRODID:-//Sabre//Sabre VObject 4.5.8//EN
CALSCALE:GREGORIAN
BEGIN:VEVENT
UID:sabre-vobject-6a7d6d5b-62fa-44c6-a581-a05b86f17bd8
DTSTAMP:20260424T132518Z
SUMMARY:Pfarrgottesdienst zum 1.Mai
DESCRIPTION:https://www2.bistum-augsburg.de/gottesdienste/pfarrgottesdienst
 -zum-1-mai_id1729371
DTSTART;TZID=Europe/Berlin:20260501T083000
DURATION:PT30M
LOCATION:St. Martin\, Kirchenanger 2\, 88175 Scheffau
END:VEVENT
END:VCALENDAR
