BEGIN:VCALENDAR
VERSION:2.0
PRODID:-//Sabre//Sabre VObject 4.5.8//EN
CALSCALE:GREGORIAN
BEGIN:VEVENT
UID:sabre-vobject-9caab977-b876-4e73-aa8d-8317135ad837
DTSTAMP:20260424T200859Z
SUMMARY:Heilige Messe\; anschl. gemeinsames Frühstück in der Pelagiusstub
 e
DESCRIPTION:https://www2.bistum-augsburg.de/gottesdienste/heilige-messe-ans
 chl-gemeinsames-fruehstueck-in-der-pelagiusstube_id1729395
DTSTART;TZID=Europe/Berlin:20260505T080000
DURATION:PT30M
LOCATION:St. Pelagius
END:VEVENT
END:VCALENDAR
