BEGIN:VCALENDAR
VERSION:2.0
PRODID:-//Sabre//Sabre VObject 4.5.8//EN
CALSCALE:GREGORIAN
BEGIN:VEVENT
UID:sabre-vobject-7e4b2e5e-246c-4876-96c7-66b2b96b611b
DTSTAMP:20260425T164950Z
SUMMARY:Heilige Messe
DESCRIPTION:https://www2.bistum-augsburg.de/gottesdienste/heilige-messe_id1
 729398
DTSTART;TZID=Europe/Berlin:20260515T160000
DURATION:PT30M
LOCATION:St. Martin\, Kirchenanger 2\, 88175 Scheffau
END:VEVENT
END:VCALENDAR
