BEGIN:VCALENDAR
VERSION:2.0
PRODID:-//Sabre//Sabre VObject 4.5.8//EN
CALSCALE:GREGORIAN
BEGIN:VEVENT
UID:sabre-vobject-adc6a193-405d-4d80-a3ad-bfe8da93f2eb
DTSTAMP:20260425T114312Z
SUMMARY:Rosenkranz
DESCRIPTION:https://www2.bistum-augsburg.de/gottesdienste/rosenkranz_id1729
 401
DTSTART;TZID=Europe/Berlin:20260515T153000
DURATION:PT30M
LOCATION:St. Martin\, Kirchenanger 2\, 88175 Scheffau
END:VEVENT
END:VCALENDAR
