BEGIN:VCALENDAR
VERSION:2.0
PRODID:-//Sabre//Sabre VObject 4.5.8//EN
CALSCALE:GREGORIAN
BEGIN:VEVENT
UID:sabre-vobject-4729e5e0-6561-439e-8d3d-21edf777e9bc
DTSTAMP:20260426T011813Z
SUMMARY:Vorabendmesse
DESCRIPTION:https://www2.bistum-augsburg.de/gottesdienste/vorabendmesse_id1
 729427
DTSTART;TZID=Europe/Berlin:20260530T180000
DURATION:PT30M
LOCATION:St. Margareta
END:VEVENT
END:VCALENDAR
