BEGIN:VCALENDAR
VERSION:2.0
PRODID:-//Sabre//Sabre VObject 4.5.8//EN
CALSCALE:GREGORIAN
BEGIN:VEVENT
UID:sabre-vobject-b05daef6-aaf5-42f2-8d14-87a6a17f2274
DTSTAMP:20260424T071831Z
SUMMARY:Heilige Messe im SH Alpenpanorama
DESCRIPTION:https://www2.bistum-augsburg.de/gottesdienste/heilige-messe-im-
 sh-alpenpanorama_id1729431
DTSTART;TZID=Europe/Berlin:20260520T100000
DURATION:PT30M
LOCATION:St. Ulrich
END:VEVENT
END:VCALENDAR
