BEGIN:VCALENDAR
VERSION:2.0
PRODID:-//Sabre//Sabre VObject 4.5.8//EN
CALSCALE:GREGORIAN
BEGIN:VEVENT
UID:sabre-vobject-9ebc6073-0994-4c20-8e0f-cdc159ca0c6e
DTSTAMP:20260423T225952Z
SUMMARY:Rosenkranz zu Ehren der Mutter Gottes
DESCRIPTION:https://www2.bistum-augsburg.de/gottesdienste/rosenkranz-zu-ehr
 en-der-mutter-gottes_id1729437
DTSTART;TZID=Europe/Berlin:20260508T160000
DURATION:PT30M
LOCATION:St. Johannes Baptist\, St.-Johannes-Straße 3\, 87650 Baisweil
END:VEVENT
END:VCALENDAR
