BEGIN:VCALENDAR
VERSION:2.0
PRODID:-//Sabre//Sabre VObject 4.5.8//EN
CALSCALE:GREGORIAN
BEGIN:VEVENT
UID:sabre-vobject-93b1d2c2-c553-4625-8649-41fc8386aada
DTSTAMP:20260425T140042Z
SUMMARY:Taufe von Helena Hutter
DESCRIPTION:https://www2.bistum-augsburg.de/gottesdienste/taufe-von-helena-
 hutter_id1729438
DTSTART;TZID=Europe/Berlin:20260502T130000
DURATION:PT30M
LOCATION:St. Johannes Baptist\, St.-Johannes-Straße 3\, 87650 Baisweil
END:VEVENT
END:VCALENDAR
