BEGIN:VCALENDAR
VERSION:2.0
PRODID:-//Sabre//Sabre VObject 4.5.8//EN
CALSCALE:GREGORIAN
BEGIN:VEVENT
UID:sabre-vobject-44e0cc32-451f-4e60-a4ba-ed87ce37c442
DTSTAMP:20260423T212431Z
SUMMARY:Vorabendmesse zum Sonntag
DESCRIPTION:https://www2.bistum-augsburg.de/gottesdienste/vorabendmesse-zum
 -sonntag_id1729440
DTSTART;TZID=Europe/Berlin:20260502T191500
DURATION:PT30M
LOCATION:St. Johannes Baptist\, St.-Johannes-Straße 3\, 87650 Baisweil
END:VEVENT
END:VCALENDAR
