BEGIN:VCALENDAR
VERSION:2.0
PRODID:-//Sabre//Sabre VObject 4.5.8//EN
CALSCALE:GREGORIAN
BEGIN:VEVENT
UID:sabre-vobject-54442671-3c71-47b0-8f73-6d26d5369fd1
DTSTAMP:20260424T042945Z
SUMMARY:Rosenkranz zu Ehren der Mutter Gottes (in der Kirche)
DESCRIPTION:https://www2.bistum-augsburg.de/gottesdienste/rosenkranz-zu-ehr
 en-der-mutter-gottes-in-der-kirche_id1729441
DTSTART;TZID=Europe/Berlin:20260505T090000
DURATION:PT30M
LOCATION:St. Johannes Baptist\, St.-Johannes-Straße 3\, 87650 Baisweil
END:VEVENT
END:VCALENDAR
