BEGIN:VCALENDAR
VERSION:2.0
PRODID:-//Sabre//Sabre VObject 4.5.8//EN
CALSCALE:GREGORIAN
BEGIN:VEVENT
UID:sabre-vobject-79a9f352-c7eb-42a3-a416-57c019bd513c
DTSTAMP:20260424T162956Z
SUMMARY:Bittgang nach Eiberg - \n(bei schlechtem Wetter Rosenkranz u. Hl. M
 esse in Baisweil)
DESCRIPTION:https://www2.bistum-augsburg.de/gottesdienste/bittgang-nach-eib
 erg-bei-schlechtem-wetter-rosenkranz-u-hl-messe-in-baisweil_id1729445
DTSTART;TZID=Europe/Berlin:20260512T183000
DURATION:PT30M
LOCATION:St. Johannes Baptist\, St.-Johannes-Straße 3\, 87650 Baisweil
END:VEVENT
END:VCALENDAR
