BEGIN:VCALENDAR
VERSION:2.0
PRODID:-//Sabre//Sabre VObject 4.5.8//EN
CALSCALE:GREGORIAN
BEGIN:VEVENT
UID:sabre-vobject-a667c6bc-14f0-4d31-98ed-ae3ab7be79c9
DTSTAMP:20260424T161613Z
SUMMARY:Rosenkranz um gute Witterung
DESCRIPTION:https://www2.bistum-augsburg.de/gottesdienste/rosenkranz-um-gut
 e-witterung_id1729449
DTSTART;TZID=Europe/Berlin:20260515T160000
DURATION:PT30M
LOCATION:St. Johannes Baptist\, St.-Johannes-Straße 3\, 87650 Baisweil
END:VEVENT
END:VCALENDAR
