BEGIN:VCALENDAR
VERSION:2.0
PRODID:-//Sabre//Sabre VObject 4.5.8//EN
CALSCALE:GREGORIAN
BEGIN:VEVENT
UID:sabre-vobject-7b9b40dd-36b6-4900-8b78-204f63a7e6bf
DTSTAMP:20260425T155440Z
SUMMARY:Heilige Messe
DESCRIPTION:https://www2.bistum-augsburg.de/gottesdienste/heilige-messe_id1
 729453
DTSTART;TZID=Europe/Berlin:20260428T180000
DURATION:PT30M
LOCATION:St. Nikolaus\, Pfarrer-Otto-Burger-Str. 1\, 85084 Reichertshofen
END:VEVENT
END:VCALENDAR
