BEGIN:VCALENDAR
VERSION:2.0
PRODID:-//Sabre//Sabre VObject 4.5.8//EN
CALSCALE:GREGORIAN
BEGIN:VEVENT
UID:sabre-vobject-435112b7-7fc7-436d-b10e-d3563b4c1eda
DTSTAMP:20260425T143108Z
SUMMARY:Vorabendmesse
DESCRIPTION:https://www2.bistum-augsburg.de/gottesdienste/vorabendmesse_id1
 729454
DTSTART;TZID=Europe/Berlin:20260502T183000
DURATION:PT30M
LOCATION:St. Nikolaus\, Pfarrer-Otto-Burger-Str. 1\, 85084 Reichertshofen
END:VEVENT
END:VCALENDAR
