BEGIN:VCALENDAR
VERSION:2.0
PRODID:-//Sabre//Sabre VObject 4.5.8//EN
CALSCALE:GREGORIAN
BEGIN:VEVENT
UID:sabre-vobject-e3997991-8ad4-48e5-9d13-b5653eb6b9d3
DTSTAMP:20260425T132447Z
SUMMARY:Hl. Messe
DESCRIPTION:https://www2.bistum-augsburg.de/gottesdienste/hl-messe_id172946
 1
DTSTART;TZID=Europe/Berlin:20260504T191500
DURATION:PT30M
LOCATION:St. Nikolaus
END:VEVENT
END:VCALENDAR
