BEGIN:VCALENDAR
VERSION:2.0
PRODID:-//Sabre//Sabre VObject 4.5.8//EN
CALSCALE:GREGORIAN
BEGIN:VEVENT
UID:sabre-vobject-1762d9bb-2a1d-421f-ae32-da10146b36bb
DTSTAMP:20260425T200643Z
SUMMARY:Rosenkranz zu Ehren der Mutter Gottes
DESCRIPTION:https://www2.bistum-augsburg.de/gottesdienste/rosenkranz-zu-ehr
 en-der-mutter-gottes_id1729473
DTSTART;TZID=Europe/Berlin:20260504T080000
DURATION:PT30M
LOCATION:St. Wolfgang
END:VEVENT
END:VCALENDAR
