BEGIN:VCALENDAR
VERSION:2.0
PRODID:-//Sabre//Sabre VObject 4.5.8//EN
CALSCALE:GREGORIAN
BEGIN:VEVENT
UID:sabre-vobject-106cb497-78a8-4af7-9aa2-016b1835813f
DTSTAMP:20260424T200702Z
SUMMARY:Rosenkranz zu Ehren der Mutter Gottes
DESCRIPTION:https://www2.bistum-augsburg.de/gottesdienste/rosenkranz-zu-ehr
 en-der-mutter-gottes_id1729475
DTSTART;TZID=Europe/Berlin:20260506T080000
DURATION:PT30M
LOCATION:St. Wolfgang
END:VEVENT
END:VCALENDAR
