BEGIN:VCALENDAR
VERSION:2.0
PRODID:-//Sabre//Sabre VObject 4.5.8//EN
CALSCALE:GREGORIAN
BEGIN:VEVENT
UID:sabre-vobject-ac3b71b8-325a-469b-abc3-5c3cd926f9bd
DTSTAMP:20260423T205058Z
SUMMARY:Rosenkranz zu Ehren der Mutter Gottes
DESCRIPTION:https://www2.bistum-augsburg.de/gottesdienste/rosenkranz-zu-ehr
 en-der-mutter-gottes_id1729476
DTSTART;TZID=Europe/Berlin:20260508T080000
DURATION:PT30M
LOCATION:St. Wolfgang
END:VEVENT
END:VCALENDAR
