BEGIN:VCALENDAR
VERSION:2.0
PRODID:-//Sabre//Sabre VObject 4.5.8//EN
CALSCALE:GREGORIAN
BEGIN:VEVENT
UID:sabre-vobject-0fe74e14-c098-4f94-ab63-65726745e8c3
DTSTAMP:20260423T092405Z
SUMMARY:Trauung in der Seelenkapelle Reiter Markus - Geier Amanda
DESCRIPTION:https://www2.bistum-augsburg.de/gottesdienste/trauung-in-der-se
 elenkapelle-reiter-markus-geier-amanda_id1729477
DTSTART;TZID=Europe/Berlin:20260502T113000
DURATION:PT30M
LOCATION:St. Afra
END:VEVENT
END:VCALENDAR
