BEGIN:VCALENDAR
VERSION:2.0
PRODID:-//Sabre//Sabre VObject 4.5.8//EN
CALSCALE:GREGORIAN
BEGIN:VEVENT
UID:sabre-vobject-49e7bf47-8f98-420f-8405-120ae9c1932c
DTSTAMP:20260424T043249Z
SUMMARY:Rosenkranz um die Gaben des Hl. Geistes
DESCRIPTION:https://www2.bistum-augsburg.de/gottesdienste/rosenkranz-um-die
 -gaben-des-hl-geistes_id1729523
DTSTART;TZID=Europe/Berlin:20260520T184500
DURATION:PT30M
LOCATION:Mariä Himmelfahrt
END:VEVENT
END:VCALENDAR
