BEGIN:VCALENDAR
VERSION:2.0
PRODID:-//Sabre//Sabre VObject 4.5.8//EN
CALSCALE:GREGORIAN
BEGIN:VEVENT
UID:sabre-vobject-f830acfa-6071-4567-bd5e-a825f053b98d
DTSTAMP:20260424T231211Z
SUMMARY:Rosenkranz für den Frieden
DESCRIPTION:https://www2.bistum-augsburg.de/gottesdienste/rosenkranz-fuer-d
 en-frieden_id1729532
DTSTART;TZID=Europe/Berlin:20260426T180000
DURATION:PT30M
LOCATION:St. Franziskus
END:VEVENT
END:VCALENDAR
