BEGIN:VCALENDAR
VERSION:2.0
PRODID:-//Sabre//Sabre VObject 4.5.8//EN
CALSCALE:GREGORIAN
BEGIN:VEVENT
UID:sabre-vobject-c5c39a0b-7888-4717-98b1-6d214f43fbf7
DTSTAMP:20260425T172646Z
SUMMARY:Rosenkranz für den Frieden
DESCRIPTION:https://www2.bistum-augsburg.de/gottesdienste/rosenkranz-fuer-d
 en-frieden_id1729535
DTSTART;TZID=Europe/Berlin:20260428T180000
DURATION:PT30M
LOCATION:St. Franziskus
END:VEVENT
END:VCALENDAR
