BEGIN:VCALENDAR
VERSION:2.0
PRODID:-//Sabre//Sabre VObject 4.5.8//EN
CALSCALE:GREGORIAN
BEGIN:VEVENT
UID:sabre-vobject-5bba998b-d0f7-4556-999a-4b87374a1e91
DTSTAMP:20260425T003557Z
SUMMARY:Rosenkranz für den Frieden
DESCRIPTION:https://www2.bistum-augsburg.de/gottesdienste/rosenkranz-fuer-d
 en-frieden_id1729538
DTSTART;TZID=Europe/Berlin:20260501T180000
DURATION:PT30M
LOCATION:St. Franziskus
END:VEVENT
END:VCALENDAR
