BEGIN:VCALENDAR
VERSION:2.0
PRODID:-//Sabre//Sabre VObject 4.5.8//EN
CALSCALE:GREGORIAN
BEGIN:VEVENT
UID:sabre-vobject-6371d869-403f-4109-b563-f0047838f5f9
DTSTAMP:20260425T231757Z
SUMMARY:2.Bittgang nach Haus\, Treffpunkt Pfarrkirche
DESCRIPTION:https://www2.bistum-augsburg.de/gottesdienste/2-bittgang-nach-h
 aus-treffpunkt-pfarrkirche_id1729545
DTSTART;TZID=Europe/Berlin:20260512T180000
DURATION:PT30M
LOCATION:St. Gallus\, Kirchplatz 2\, 88175 Scheidegg
END:VEVENT
END:VCALENDAR
