BEGIN:VCALENDAR
VERSION:2.0
PRODID:-//Sabre//Sabre VObject 4.5.8//EN
CALSCALE:GREGORIAN
BEGIN:VEVENT
UID:sabre-vobject-87d2356d-aac8-43ae-9fd6-ed26115c3746
DTSTAMP:20260426T033820Z
SUMMARY:Taufe von Theo Möslang
DESCRIPTION:https://www2.bistum-augsburg.de/gottesdienste/taufe-von-theo-mo
 eslang_id1729562
DTSTART;TZID=Europe/Berlin:20260517T113000
DURATION:PT30M
LOCATION:St. Margareta
END:VEVENT
END:VCALENDAR
