BEGIN:VCALENDAR
VERSION:2.0
PRODID:-//Sabre//Sabre VObject 4.5.8//EN
CALSCALE:GREGORIAN
BEGIN:VEVENT
UID:sabre-vobject-0a421b3b-0903-425d-86fe-1b809f03acbe
DTSTAMP:20260425T035429Z
SUMMARY:Trauung von Elisabeth und Philipp Hermann
DESCRIPTION:https://www2.bistum-augsburg.de/gottesdienste/trauung-von-elisa
 beth-und-philipp-hermann_id1729566
DTSTART;TZID=Europe/Berlin:20260523T150000
DURATION:PT30M
LOCATION:St. Margareta
END:VEVENT
END:VCALENDAR
