BEGIN:VCALENDAR
VERSION:2.0
PRODID:-//Sabre//Sabre VObject 4.5.8//EN
CALSCALE:GREGORIAN
BEGIN:VEVENT
UID:sabre-vobject-cf13dd64-546d-428a-94b6-50c9a8d8b92e
DTSTAMP:20260425T032022Z
SUMMARY:Maiandacht an der Lourdeskapelle / bei Regen in St. Ulrich Dieperts
 hofen
DESCRIPTION:https://www2.bistum-augsburg.de/gottesdienste/maiandacht-an-der
 -lourdeskapelle-bei-regen-in-st-ulrich-diepertshofen_id1729570
DTSTART;TZID=Europe/Berlin:20260503T183000
DURATION:PT30M
LOCATION:St. Martin
END:VEVENT
END:VCALENDAR
