BEGIN:VCALENDAR
VERSION:2.0
PRODID:-//Sabre//Sabre VObject 4.5.8//EN
CALSCALE:GREGORIAN
BEGIN:VEVENT
UID:sabre-vobject-f501b4f4-a323-493f-a493-862777af886b
DTSTAMP:20260426T010617Z
SUMMARY:Rosenkranz
DESCRIPTION:https://www2.bistum-augsburg.de/gottesdienste/rosenkranz_id1729
 571
DTSTART;TZID=Europe/Berlin:20260428T180000
DURATION:PT30M
LOCATION:St. Martin
END:VEVENT
END:VCALENDAR
