BEGIN:VCALENDAR
VERSION:2.0
PRODID:-//Sabre//Sabre VObject 4.5.8//EN
CALSCALE:GREGORIAN
BEGIN:VEVENT
UID:sabre-vobject-d140ff96-d551-420a-afc1-e8d9eeaffc63
DTSTAMP:20260425T223319Z
SUMMARY:D(t)ankstellengottesdienst
DESCRIPTION:https://www2.bistum-augsburg.de/gottesdienste/d-t-ankstellengot
 tesdienst_id1729578
DTSTART;TZID=Europe/Berlin:20260517T183000
DURATION:PT30M
LOCATION:St. Peter und Paul
END:VEVENT
END:VCALENDAR
