BEGIN:VCALENDAR
VERSION:2.0
PRODID:-//Sabre//Sabre VObject 4.5.8//EN
CALSCALE:GREGORIAN
BEGIN:VEVENT
UID:sabre-vobject-d12e23c9-6274-4ee0-844f-5a644dbac817
DTSTAMP:20260425T220952Z
SUMMARY:Heilige Messe für Roland Boll
DESCRIPTION:https://www2.bistum-augsburg.de/gottesdienste/heilige-messe-fue
 r-roland-boll_id1729584
DTSTART;TZID=Europe/Berlin:20260531T080000
DURATION:PT30M
LOCATION:St. Peter und Paul
END:VEVENT
END:VCALENDAR
