BEGIN:VCALENDAR
VERSION:2.0
PRODID:-//Sabre//Sabre VObject 4.5.8//EN
CALSCALE:GREGORIAN
BEGIN:VEVENT
UID:sabre-vobject-d75e8b4d-09c3-4a0b-ade4-a8219540a066
DTSTAMP:20260425T152939Z
SUMMARY:Hl. Messe nach Meinung\nanschl. Aussetzung des Allerheiligsten u. s
 akramentaler Segen
DESCRIPTION:https://www2.bistum-augsburg.de/gottesdienste/hl-messe-nach-mei
 nung-anschl-aussetzung-des-allerheiligsten-u-sakramentaler-segen_id1729596
DTSTART;TZID=Europe/Berlin:20260528T183000
DURATION:PT30M
LOCATION:St. Blasius
END:VEVENT
END:VCALENDAR
