BEGIN:VCALENDAR
VERSION:2.0
PRODID:-//Sabre//Sabre VObject 4.5.8//EN
CALSCALE:GREGORIAN
BEGIN:VEVENT
UID:sabre-vobject-6553f290-8ac3-4a7a-9338-baa220c696b1
DTSTAMP:20260425T184121Z
SUMMARY:Rosenkranz
DESCRIPTION:https://www2.bistum-augsburg.de/gottesdienste/rosenkranz_id1729
 603
DTSTART;TZID=Europe/Berlin:20260522T183000
DURATION:PT30M
LOCATION:St. Martin
END:VEVENT
END:VCALENDAR
