BEGIN:VCALENDAR
VERSION:2.0
PRODID:-//Sabre//Sabre VObject 4.5.8//EN
CALSCALE:GREGORIAN
BEGIN:VEVENT
UID:sabre-vobject-7d9475dc-4d6f-420d-b74b-c627240f42ae
DTSTAMP:20260424T000139Z
SUMMARY:Abmarsch am Radweg b. d. Wertachbrücke (bei Regen nur Bittmesse in
  Amberg)\, anschl. gemeinsames Frühstück im Pfarrheim Türkheim
DESCRIPTION:https://www2.bistum-augsburg.de/gottesdienste/abmarsch-am-radwe
 g-b-d-wertachbruecke-bei-regen-nur-bittmesse-in-amberg-anschl-gemeinsames-
 fruehstueck-im-pfarrheim-tuerkheim_id1729618
DTSTART;TZID=Europe/Berlin:20260511T053000
DURATION:PT30M
LOCATION:Mariä Himmelfahrt
END:VEVENT
END:VCALENDAR
