BEGIN:VCALENDAR
VERSION:2.0
PRODID:-//Sabre//Sabre VObject 4.5.8//EN
CALSCALE:GREGORIAN
BEGIN:VEVENT
UID:sabre-vobject-047c33ef-1998-4b96-a610-dba03bda3a6e
DTSTAMP:20260424T163855Z
SUMMARY:Maiandacht
DESCRIPTION:https://www2.bistum-augsburg.de/gottesdienste/maiandacht_id1729
 630
DTSTART;TZID=Europe/Berlin:20260531T190000
DURATION:PT30M
LOCATION:St. Blasius
END:VEVENT
END:VCALENDAR
