BEGIN:VCALENDAR
VERSION:2.0
PRODID:-//Sabre//Sabre VObject 4.5.8//EN
CALSCALE:GREGORIAN
BEGIN:VEVENT
UID:sabre-vobject-3099c5aa-a0fd-4fca-be24-c6074ef0eb67
DTSTAMP:20260425T120426Z
SUMMARY:Heilige Messe mit Mariengedenken
DESCRIPTION:https://www2.bistum-augsburg.de/gottesdienste/heilige-messe-mit
 -mariengedenken_id1729640
DTSTART;TZID=Europe/Berlin:20260520T183000
DURATION:PT30M
LOCATION:St. Martin
END:VEVENT
END:VCALENDAR
