BEGIN:VCALENDAR
VERSION:2.0
PRODID:-//Sabre//Sabre VObject 4.5.8//EN
CALSCALE:GREGORIAN
BEGIN:VEVENT
UID:sabre-vobject-00622e15-e53d-43e6-990d-5cb378eeb278
DTSTAMP:20260424T074839Z
SUMMARY:Bibelkreis im Pfarrzentrum
DESCRIPTION:https://www2.bistum-augsburg.de/gottesdienste/bibelkreis-im-pfa
 rrzentrum_id1729645
DTSTART;TZID=Europe/Berlin:20260519T200000
DURATION:PT30M
LOCATION:St. Peter und Paul
END:VEVENT
END:VCALENDAR
