BEGIN:VCALENDAR
VERSION:2.0
PRODID:-//Sabre//Sabre VObject 4.5.8//EN
CALSCALE:GREGORIAN
BEGIN:VEVENT
UID:sabre-vobject-268f256b-36c2-47ee-8611-e5ecdde1c136
DTSTAMP:20260423T003018Z
SUMMARY:Rosenkranz für die Kranken
DESCRIPTION:https://www2.bistum-augsburg.de/gottesdienste/rosenkranz-fuer-d
 ie-kranken_id1729646
DTSTART;TZID=Europe/Berlin:20260425T190000
DURATION:PT30M
LOCATION:St. Moritz
END:VEVENT
END:VCALENDAR
