BEGIN:VCALENDAR
VERSION:2.0
PRODID:-//Sabre//Sabre VObject 4.5.8//EN
CALSCALE:GREGORIAN
BEGIN:VEVENT
UID:sabre-vobject-b546a0e9-bbb0-4b38-b39c-04be900eb559
DTSTAMP:20260424T030047Z
SUMMARY:Maiandacht vom Kath. Frauenbund Aichach
DESCRIPTION:https://www2.bistum-augsburg.de/gottesdienste/maiandacht-vom-ka
 th-frauenbund-aichach_id1729671
DTSTART;TZID=Europe/Berlin:20260521T180000
DURATION:PT30M
LOCATION:Maria Verkündigung\, Ainertshofen 1\, 86570 Ainertshofen
END:VEVENT
END:VCALENDAR
