BEGIN:VCALENDAR
VERSION:2.0
PRODID:-//Sabre//Sabre VObject 4.5.8//EN
CALSCALE:GREGORIAN
BEGIN:VEVENT
UID:sabre-vobject-f220ddf8-7521-42c1-a493-a685be24ed84
DTSTAMP:20260424T183254Z
SUMMARY:in Motzenhofen: hl. Messe zum "Maiausflug" der Mitarbeiterinnen und
  Mitarbeiter der 		Kirchenstiftungen sowie aller Mitglieder der Pfarrgemei
 nderäte und Kirchenverwaltungen 		anschließend Ei
DESCRIPTION:https://www2.bistum-augsburg.de/gottesdienste/in-motzenhofen-hl
 -messe-zum-maiausflug-der-mitarbeiterinnen-und-mitarbeiter-der-kirchenstif
 tungen-sowie-aller-mitglieder-der-pfarrgemeinderaete-und-kirchenverwaltung
 en-anschliessend-ei_id1729679
DTSTART;TZID=Europe/Berlin:20260520T190000
DURATION:PT30M
LOCATION:St. Nikolaus\, Kirchpl. 3\, 86570 Inchenhofen
END:VEVENT
END:VCALENDAR
