BEGIN:VCALENDAR
VERSION:2.0
PRODID:-//Sabre//Sabre VObject 4.5.8//EN
CALSCALE:GREGORIAN
BEGIN:VEVENT
UID:sabre-vobject-7d2967bd-8307-4cb3-a7ba-afdbb14cce5a
DTSTAMP:20260423T035500Z
SUMMARY:Beichtgelegenheit bis 18.15 Uhr
DESCRIPTION:https://www2.bistum-augsburg.de/gottesdienste/beichtgelegenheit
 -bis-18-15-uhr_id1729696
DTSTART;TZID=Europe/Berlin:20260429T174500
DURATION:PT30M
LOCATION:Mariä Himmelfahrt
END:VEVENT
END:VCALENDAR
